BEGIN:VCALENDAR
VERSION:2.0
PRODID:-//Victor Harbor - ECPv6.15.20//NONSGML v1.0//EN
CALSCALE:GREGORIAN
METHOD:PUBLISH
X-ORIGINAL-URL:https://visitvictorharbor.com
X-WR-CALDESC:Events for Victor Harbor
REFRESH-INTERVAL;VALUE=DURATION:PT1H
X-Robots-Tag:noindex
X-PUBLISHED-TTL:PT1H
BEGIN:VTIMEZONE
TZID:Australia/Adelaide
BEGIN:STANDARD
TZOFFSETFROM:+1030
TZOFFSETTO:+0930
TZNAME:ACST
DTSTART:20250405T163000
END:STANDARD
BEGIN:DAYLIGHT
TZOFFSETFROM:+0930
TZOFFSETTO:+1030
TZNAME:ACDT
DTSTART:20251004T163000
END:DAYLIGHT
BEGIN:STANDARD
TZOFFSETFROM:+1030
TZOFFSETTO:+0930
TZNAME:ACST
DTSTART:20260404T163000
END:STANDARD
BEGIN:DAYLIGHT
TZOFFSETFROM:+0930
TZOFFSETTO:+1030
TZNAME:ACDT
DTSTART:20261003T163000
END:DAYLIGHT
BEGIN:STANDARD
TZOFFSETFROM:+1030
TZOFFSETTO:+0930
TZNAME:ACST
DTSTART:20270403T163000
END:STANDARD
BEGIN:DAYLIGHT
TZOFFSETFROM:+0930
TZOFFSETTO:+1030
TZNAME:ACDT
DTSTART:20271002T163000
END:DAYLIGHT
END:VTIMEZONE
BEGIN:VEVENT
DTSTART;TZID=Australia/Adelaide:20260412T090000
DTEND;TZID=Australia/Adelaide:20260412T150000
DTSTAMP:20260425T234611
CREATED:20250804T043900Z
LAST-MODIFIED:20250804T043900Z
UID:10001923-1775984400-1776006000@visitvictorharbor.com
SUMMARY:Victor Harbor Beachside Markets
DESCRIPTION:Enjoy the vibrant atmosphere of the Victor Harbor Beachside Markets\, held every second and fourth Sunday on the scenic foreshore at Soldiers Memorial Reserve. This much-loved community market features between 30 and 70 stalls\, offering an ever-changing variety of goods. \nBrowse everything from clothing and jewelry to handmade soaps\, bric-a-brac\, candles\, honey\, plants\, homewares\, and hot food. With a relaxed\, family-friendly vibe and stunning ocean views\, it’s the perfect way to spend a Sunday in Victor Harbor. \nThe markets also run every Sunday in January (except the last Sunday)\, with extra dates added throughout the year. For the latest updates\, visit the Victor Harbor Beachside Market Facebook page. \nWhether you’re looking for a unique gift\, fresh produce\, or just a great day out by the sea\, the Beachside Markets have something for everyone.
URL:https://visitvictorharbor.com/event/victor-harbor-beachside-markets/2026-04-12/
LOCATION:Soldiers Memorial Reserve\, The Esplanade\, Victor Harbor\, Victor Harbor\, 5211
CATEGORIES:Community Events,Markets
ATTACH;FMTTYPE=image/jpeg:https://visitvictorharbor.com/wp-content/uploads/2025/05/Victor-Harbor-Beachside-Market.jpg
ORGANIZER;CN="Victor Harbor Beachside Markets":MAILTO:info@victorharborbeachsidemarket.com.au
GEO:-35.5573521;138.618708
X-APPLE-STRUCTURED-LOCATION;VALUE=URI;X-ADDRESS=Soldiers Memorial Reserve The Esplanade Victor Harbor Victor Harbor 5211;X-APPLE-RADIUS=500;X-TITLE=The Esplanade\, Victor Harbor:geo:138.618708,-35.5573521
END:VEVENT
END:VCALENDAR