BEGIN:VCALENDAR
VERSION:2.0
PRODID:-//Victor Harbor - ECPv6.15.20//NONSGML v1.0//EN
CALSCALE:GREGORIAN
METHOD:PUBLISH
X-WR-CALNAME:Victor Harbor
X-ORIGINAL-URL:https://visitvictorharbor.com
X-WR-CALDESC:Events for Victor Harbor
REFRESH-INTERVAL;VALUE=DURATION:PT1H
X-Robots-Tag:noindex
X-PUBLISHED-TTL:PT1H
BEGIN:VTIMEZONE
TZID:Australia/Adelaide
BEGIN:STANDARD
TZOFFSETFROM:+1030
TZOFFSETTO:+0930
TZNAME:ACST
DTSTART:20250405T163000
END:STANDARD
BEGIN:DAYLIGHT
TZOFFSETFROM:+0930
TZOFFSETTO:+1030
TZNAME:ACDT
DTSTART:20251004T163000
END:DAYLIGHT
BEGIN:STANDARD
TZOFFSETFROM:+1030
TZOFFSETTO:+0930
TZNAME:ACST
DTSTART:20260404T163000
END:STANDARD
BEGIN:DAYLIGHT
TZOFFSETFROM:+0930
TZOFFSETTO:+1030
TZNAME:ACDT
DTSTART:20261003T163000
END:DAYLIGHT
BEGIN:STANDARD
TZOFFSETFROM:+1030
TZOFFSETTO:+0930
TZNAME:ACST
DTSTART:20270403T163000
END:STANDARD
BEGIN:DAYLIGHT
TZOFFSETFROM:+0930
TZOFFSETTO:+1030
TZNAME:ACDT
DTSTART:20271002T163000
END:DAYLIGHT
END:VTIMEZONE
BEGIN:VEVENT
DTSTART;TZID=Australia/Adelaide:20260425T080000
DTEND;TZID=Australia/Adelaide:20260425T123000
DTSTAMP:20260421T090320
CREATED:20240628T075206Z
LAST-MODIFIED:20240628T075206Z
UID:10001557-1777104000-1777120200@visitvictorharbor.com
SUMMARY:Victor Harbor Farmers' Market
DESCRIPTION:The Victor Harbor Farmers’ Markets is open every Saturday morning from 8am until 12:30 pm\, no matter the weather. \nHere\, you’ll find fresh produce\, including locally grown fruits\, vegetables\, locally produced meats\, seafood\, wine\, eggs\, and much more. \nGrab a fresh bunch of flowers to take home with you\, or bring back some sweet treats as a gift for your loved ones. \nListen to the great local musicians performing as you browse the stalls\, and\, even if you don’t buy any produce\, you can grab a coffee or sample a mouth-watering cake from one the local producers. \nThe farmer’s market is located at Grosvenor Gardens\, Victor Harbor.
URL:https://visitvictorharbor.com/event/victor-harbor-farmers-market/2026-04-25/
LOCATION:Grosvenor Gardens\, Victor Harbor\, Grosvenor Gardens\, Victor Harbor\, SA\, 5211\, Australia
CATEGORIES:Community Events
ATTACH;FMTTYPE=image/jpeg:https://visitvictorharbor.com/wp-content/uploads/2024/06/Farmers-Market-Event.jpg
ORGANIZER;CN="Victor Harbor Farmers Market":MAILTO:manager@victorharborfarmersmarket.com.au
GEO:-35.5537191;138.6217654
X-APPLE-STRUCTURED-LOCATION;VALUE=URI;X-ADDRESS=Grosvenor Gardens Victor Harbor Grosvenor Gardens Victor Harbor SA 5211 Australia;X-APPLE-RADIUS=500;X-TITLE=Grosvenor Gardens:geo:138.6217654,-35.5537191
END:VEVENT
BEGIN:VEVENT
DTSTART;TZID=Australia/Adelaide:20260510T090000
DTEND;TZID=Australia/Adelaide:20260510T150000
DTSTAMP:20260421T090320
CREATED:20250804T043900Z
LAST-MODIFIED:20250804T043900Z
UID:10001924-1778403600-1778425200@visitvictorharbor.com
SUMMARY:Victor Harbor Beachside Markets
DESCRIPTION:Enjoy the vibrant atmosphere of the Victor Harbor Beachside Markets\, held every second and fourth Sunday on the scenic foreshore at Soldiers Memorial Reserve. This much-loved community market features between 30 and 70 stalls\, offering an ever-changing variety of goods. \nBrowse everything from clothing and jewelry to handmade soaps\, bric-a-brac\, candles\, honey\, plants\, homewares\, and hot food. With a relaxed\, family-friendly vibe and stunning ocean views\, it’s the perfect way to spend a Sunday in Victor Harbor. \nThe markets also run every Sunday in January (except the last Sunday)\, with extra dates added throughout the year. For the latest updates\, visit the Victor Harbor Beachside Market Facebook page. \nWhether you’re looking for a unique gift\, fresh produce\, or just a great day out by the sea\, the Beachside Markets have something for everyone.
URL:https://visitvictorharbor.com/event/victor-harbor-beachside-markets/2026-05-10/
LOCATION:Soldiers Memorial Reserve\, The Esplanade\, Victor Harbor\, Victor Harbor\, 5211
CATEGORIES:Community Events,Markets
ATTACH;FMTTYPE=image/jpeg:https://visitvictorharbor.com/wp-content/uploads/2025/05/Victor-Harbor-Beachside-Market.jpg
ORGANIZER;CN="Victor Harbor Beachside Markets":MAILTO:info@victorharborbeachsidemarket.com.au
GEO:-35.5573521;138.618708
X-APPLE-STRUCTURED-LOCATION;VALUE=URI;X-ADDRESS=Soldiers Memorial Reserve The Esplanade Victor Harbor Victor Harbor 5211;X-APPLE-RADIUS=500;X-TITLE=The Esplanade\, Victor Harbor:geo:138.618708,-35.5573521
END:VEVENT
END:VCALENDAR